BEGIN:VCALENDAR
VERSION:2.0
PRODID:-//Redeemer Evangelical Lutheran Church - ECPv6.15.3//NONSGML v1.0//EN
CALSCALE:GREGORIAN
METHOD:PUBLISH
X-WR-CALNAME:Redeemer Evangelical Lutheran Church
X-ORIGINAL-URL:https://www.redeemerclc.info
X-WR-CALDESC:Events for Redeemer Evangelical Lutheran Church
REFRESH-INTERVAL;VALUE=DURATION:PT1H
X-Robots-Tag:noindex
X-PUBLISHED-TTL:PT1H
BEGIN:VTIMEZONE
TZID:America/New_York
BEGIN:DAYLIGHT
TZOFFSETFROM:-0500
TZOFFSETTO:-0400
TZNAME:EDT
DTSTART:20200308T070000
END:DAYLIGHT
BEGIN:STANDARD
TZOFFSETFROM:-0400
TZOFFSETTO:-0500
TZNAME:EST
DTSTART:20201101T060000
END:STANDARD
END:VTIMEZONE
BEGIN:VTIMEZONE
TZID:America/Detroit
BEGIN:DAYLIGHT
TZOFFSETFROM:-0500
TZOFFSETTO:-0400
TZNAME:EDT
DTSTART:20200308T070000
END:DAYLIGHT
BEGIN:STANDARD
TZOFFSETFROM:-0400
TZOFFSETTO:-0500
TZNAME:EST
DTSTART:20201101T060000
END:STANDARD
END:VTIMEZONE
BEGIN:VEVENT
DTSTART;TZID=America/New_York:20201108T151500
DTEND;TZID=America/New_York:20201108T160000
DTSTAMP:20260423T143405
CREATED:20201004T214442Z
LAST-MODIFIED:20201022T175022Z
UID:1607-1604848500-1604851200@www.redeemerclc.info
SUMMARY:Rock of Ages Preaching Ministry (Bible Study)
DESCRIPTION:Our preaching station in the Grand Rapids\, MI area will hold an afternoon Bible Study at the home of one of the members. If you would like to attend\, please contact Pastor Schaller for more information.
URL:https://www.redeemerclc.info/event/rock-of-ages-preaching-ministry-bible-class/
LOCATION:Rock of Ages Preaching Ministry\, Grand Rapids\, MI\, United States
CATEGORIES:Education
END:VEVENT
BEGIN:VEVENT
DTSTART;VALUE=DATE:20201102
DTEND;VALUE=DATE:20201103
DTSTAMP:20260423T143405
CREATED:20201022T175812Z
LAST-MODIFIED:20201022T175812Z
UID:1635-1604275200-1604361599@www.redeemerclc.info
SUMMARY:Pastoral Study Group
DESCRIPTION:The CLC pastors of lower Michigan will meet for a day of Bible Study together.
URL:https://www.redeemerclc.info/event/pastoral-study-group/
LOCATION:Redeemer Lutheran Church\, 66325 M 152\, Dowagiac\, MI\, 49047\, United States
CATEGORIES:Education
END:VEVENT
BEGIN:VEVENT
DTSTART;TZID=America/Detroit:20201101T101500
DTEND;TZID=America/Detroit:20201101T110000
DTSTAMP:20260423T143405
CREATED:20201022T181444Z
LAST-MODIFIED:20201022T181451Z
UID:1644-1604225700-1604228400@www.redeemerclc.info
SUMMARY:Bible Study (All Saints)
DESCRIPTION:
URL:https://www.redeemerclc.info/event/bible-study-all-saints/
LOCATION:Redeemer Lutheran Church\, 66325 M 152\, Dowagiac\, MI\, 49047\, United States
CATEGORIES:Education
END:VEVENT
BEGIN:VEVENT
DTSTART;TZID=America/Detroit:20201101T101500
DTEND;TZID=America/Detroit:20201101T110000
DTSTAMP:20260423T143405
CREATED:20201022T181406Z
LAST-MODIFIED:20201022T181406Z
UID:1642-1604225700-1604228400@www.redeemerclc.info
SUMMARY:Sunday School (All Saints)
DESCRIPTION:
URL:https://www.redeemerclc.info/event/sunday-school-all-saints/
LOCATION:Redeemer Lutheran Church\, 66325 M 152\, Dowagiac\, MI\, 49047\, United States
CATEGORIES:Education
END:VEVENT
BEGIN:VEVENT
DTSTART;TZID=America/New_York:20201027T180000
DTEND;TZID=America/New_York:20201027T193000
DTSTAMP:20260423T143405
CREATED:20201004T212147Z
LAST-MODIFIED:20201022T175132Z
UID:1592-1603821600-1603827000@www.redeemerclc.info
SUMMARY:Youth Instruction Class Session 2
DESCRIPTION:A course in the basic teachings of the Bible for any students in grades 6-8. Lesson 6. (This class is a repeat of Session 1.)
URL:https://www.redeemerclc.info/event/youth-instruction-class-session-2/
LOCATION:Redeemer Lutheran Church\, 66325 M 152\, Dowagiac\, MI\, 49047\, United States
CATEGORIES:Education
END:VEVENT
BEGIN:VEVENT
DTSTART;TZID=America/Detroit:20201027T160000
DTEND;TZID=America/Detroit:20201027T173000
DTSTAMP:20260423T143405
CREATED:20200103T031938Z
LAST-MODIFIED:20201022T175214Z
UID:1354-1603814400-1603819800@www.redeemerclc.info
SUMMARY:Youth Instruction Class Session 1
DESCRIPTION:A course in the basic teachings of the Bible for any students in grades 6-8. Lesson 6.
URL:https://www.redeemerclc.info/event/youth-instruction-class/
LOCATION:Redeemer Lutheran Church\, 66325 M 152\, Dowagiac\, MI\, 49047\, United States
CATEGORIES:Education
END:VEVENT
BEGIN:VEVENT
DTSTART;TZID=America/New_York:20201025T101500
DTEND;TZID=America/New_York:20201025T110000
DTSTAMP:20260423T143405
CREATED:20201004T213115Z
LAST-MODIFIED:20201022T180940Z
UID:1598-1603620900-1603623600@www.redeemerclc.info
SUMMARY:Bible Study (Pentecost 21)
DESCRIPTION:The Bible Study is currently reading Luke.
URL:https://www.redeemerclc.info/event/bible-class-pentecost-21/
LOCATION:Redeemer Lutheran Church\, 66325 M 152\, Dowagiac\, MI\, 49047\, United States
CATEGORIES:Education
END:VEVENT
BEGIN:VEVENT
DTSTART;TZID=America/New_York:20201025T101500
DTEND;TZID=America/New_York:20201025T110000
DTSTAMP:20260423T143405
CREATED:20201004T212742Z
LAST-MODIFIED:20201022T181056Z
UID:1596-1603620900-1603623600@www.redeemerclc.info
SUMMARY:Sunday School (Pentecost 21)
DESCRIPTION:The Sunday School lesson for this session is a special lesson on the Lutheran Reformation.
URL:https://www.redeemerclc.info/event/sunday-school-pentecost-21/
LOCATION:Redeemer Lutheran Church\, 66325 M 152\, Dowagiac\, MI\, 49047\, United States
CATEGORIES:Education
END:VEVENT
END:VCALENDAR