BEGIN:VCALENDAR
VERSION:2.0
PRODID:-//Redeemer Evangelical Lutheran Church - ECPv6.15.3//NONSGML v1.0//EN
CALSCALE:GREGORIAN
METHOD:PUBLISH
X-WR-CALNAME:Redeemer Evangelical Lutheran Church
X-ORIGINAL-URL:https://www.redeemerclc.info
X-WR-CALDESC:Events for Redeemer Evangelical Lutheran Church
REFRESH-INTERVAL;VALUE=DURATION:PT1H
X-Robots-Tag:noindex
X-PUBLISHED-TTL:PT1H
BEGIN:VTIMEZONE
TZID:America/Detroit
BEGIN:DAYLIGHT
TZOFFSETFROM:-0500
TZOFFSETTO:-0400
TZNAME:EDT
DTSTART:20200308T070000
END:DAYLIGHT
BEGIN:STANDARD
TZOFFSETFROM:-0400
TZOFFSETTO:-0500
TZNAME:EST
DTSTART:20201101T060000
END:STANDARD
END:VTIMEZONE
BEGIN:VEVENT
DTSTART;TZID=America/Detroit:20201030T180000
DTEND;TZID=America/Detroit:20201030T200000
DTSTAMP:20260423T160802
CREATED:20201022T175434Z
LAST-MODIFIED:20201022T175434Z
UID:1631-1604080800-1604088000@www.redeemerclc.info
SUMMARY:Fall Bonfire
DESCRIPTION:All are invited to our fall bonfire night. Food and drink will be provided.
URL:https://www.redeemerclc.info/event/fall-bonfire/
LOCATION:Redeemer Lutheran Church\, 66325 M 152\, Dowagiac\, MI\, 49047\, United States
CATEGORIES:Fellowship
END:VEVENT
END:VCALENDAR